BEGIN:VCALENDAR
PRODID:-//PUBBLE//agenda//NL
VERSION:2.0
METHOD:PUBLISH
BEGIN:VEVENT
DTSTART:20231112T140000Z
DTEND:20231112T180000Z
DTSTAMP:20260425T161000Z
UID:fbc7177a-076b-4941-9c49-7c11f2bc0d22
CREATED:20260425T161000Z
NAME:Local Jazzy Vibes grootsneek.nl
X-WR-CALNAME:Local Jazzy Vibes
X-ALT-DESC;FMTTYPE=text/html:<a href='/agenda/2023/11/12/local-jazzy-vibes-73243'>/agenda/2023/11/12/local-jazzy-vibes-73243</a> || <p><em>Herfsteditie&nbsp;</em><strong>– Local Jazzy Vibes&nbsp;&nbsp;</strong></p>
<p>Op zondag 12 november geniet je van heerlijke muziek tijdens de lazy sunday afternoon herfsteditie. Local Vibes zoals in de Sneekweek, maar nu als sfeervol najaarsevent bij Lokaal55 met lounge, soul, jazz en pop. Festival-food vanuit de Foodtruck, Drinks bij de bar en met de cocktails fietsen we naar je toe…</p>
<p><em>Live Muziek</em></p>
<p><strong>Pieter Sax</strong>&nbsp;zorgt voor entertainment en swingende muziek op zijn saxofoon met de DJ. Terwijl de pianist van&nbsp;<strong>The Piano Bar</strong> je toezingt met klassiekers uit de pop, jazz, blues and soul, wordt in het midden van de vleugel je favoriete drankje bereid.</p>
<p>Vanaf 16:00 uur gaan de deuren open en ontvangen we jullie graag op de sfeervolle editie; Local Jazzy Vibes… Zien we jullie dan?</p>
<p>Kinderen&nbsp;<em>tot</em> 12 jaar mogen voor het kindertarief mee naar binnen. Voor hen is er een workshop en schminken bij de <strong>Nienclub</strong>!</p>
DESCRIPTION:<a href='/agenda/2023/11/12/local-jazzy-vibes-73243'>/agenda/2023/11/12/local-jazzy-vibes-73243</a> || <p><em>Herfsteditie&nbsp;</em><strong>– Local Jazzy Vibes&nbsp;&nbsp;</strong></p>
<p>Op zondag 12 november geniet je van heerlijke muziek tijdens de lazy sunday afternoon herfsteditie. Local Vibes zoals in de Sneekweek, maar nu als sfeervol najaarsevent bij Lokaal55 met lounge, soul, jazz en pop. Festival-food vanuit de Foodtruck, Drinks bij de bar en met de cocktails fietsen we naar je toe…</p>
<p><em>Live Muziek</em></p>
<p><strong>Pieter Sax</strong>&nbsp;zorgt voor entertainment en swingende muziek op zijn saxofoon met de DJ. Terwijl de pianist van&nbsp;<strong>The Piano Bar</strong> je toezingt met klassiekers uit de pop, jazz, blues and soul, wordt in het midden van de vleugel je favoriete drankje bereid.</p>
<p>Vanaf 16:00 uur gaan de deuren open en ontvangen we jullie graag op de sfeervolle editie; Local Jazzy Vibes… Zien we jullie dan?</p>
<p>Kinderen&nbsp;<em>tot</em> 12 jaar mogen voor het kindertarief mee naar binnen. Voor hen is er een workshop en schminken bij de <strong>Nienclub</strong>!</p>
LAST-MODIFIED:20260425T161000Z
LOCATION: Lokaal55 | Oudeoppenhuizerweg 55 Sneek
SEQUENCE:0
STATUS:CONFIRMED
SUMMARY:Local Jazzy Vibes
TRANSP:OPAQUE
END:VEVENT
END:VCALENDAR
