BEGIN:VCALENDAR
PRODID:-//PUBBLE//agenda//NL
VERSION:2.0
METHOD:PUBLISH
BEGIN:VEVENT
DTSTART:20260426T140000Z
DTEND:20260426T153000Z
DTSTAMP:20260426T031503Z
UID:31a10918-e0fe-464c-a1bd-5f50c51a8493
CREATED:20260426T031503Z
NAME:Stadswandeling: Sporen van oorlog en verzet grootsneek.nl
X-WR-CALNAME:Stadswandeling: Sporen van oorlog en verzet
X-ALT-DESC;FMTTYPE=text/html:<a href='/agenda/2026/4/26/stadswandeling-sporen-van-oorlog-en-verzet-129311'>/agenda/2026/4/26/stadswandeling-sporen-van-oorlog-en-verzet-129311</a> || <p>De route voert langs plekken van herinnering, zoals de ‘stroffelstiennen’ en het Joods Monument, langs het standbeeld van oorlogspremier Gerbrandy en langs De Waag die de Duitsers in brand staken toen ze de aftocht bliezen. Onze stadsgidsen vertellen over het verzet, onderduikers en de Sneker bloednacht.</p>
<p>De wandeling duurt ca 1,5 uur en kost €5,50 per persoon.</p>
DESCRIPTION:<a href='/agenda/2026/4/26/stadswandeling-sporen-van-oorlog-en-verzet-129311'>/agenda/2026/4/26/stadswandeling-sporen-van-oorlog-en-verzet-129311</a> || <p>De route voert langs plekken van herinnering, zoals de ‘stroffelstiennen’ en het Joods Monument, langs het standbeeld van oorlogspremier Gerbrandy en langs De Waag die de Duitsers in brand staken toen ze de aftocht bliezen. Onze stadsgidsen vertellen over het verzet, onderduikers en de Sneker bloednacht.</p>
<p>De wandeling duurt ca 1,5 uur en kost €5,50 per persoon.</p>
LAST-MODIFIED:20260426T031503Z
LOCATION: Fries Scheepvaart Museum Sneek | Kleinzand 16 Sneek
SEQUENCE:0
STATUS:CONFIRMED
SUMMARY:Stadswandeling: Sporen van oorlog en verzet
TRANSP:OPAQUE
END:VEVENT
END:VCALENDAR
