BEGIN:VCALENDAR
PRODID:-//PUBBLE//agenda//NL
VERSION:2.0
METHOD:PUBLISH
BEGIN:VEVENT
DTSTART:20260422T193000Z
DTEND:20260422T203000Z
DTSTAMP:20260420T035206Z
UID:059972ed-4cc1-44f5-9e27-657c7d2e391e
CREATED:20260420T035206Z
NAME:Stadswandeling: Sporen van oorlog en verzet grootsneek.nl
X-WR-CALNAME:Stadswandeling: Sporen van oorlog en verzet
X-ALT-DESC;FMTTYPE=text/html:<a href='/agenda/2026/4/22/stadswandeling-sporen-van-oorlog-en-verzet-129310'>/agenda/2026/4/22/stadswandeling-sporen-van-oorlog-en-verzet-129310</a> || <p>De route voert langs plekken van herinnering, zoals de ‘stroffelstiennen’ en het Joods Monument, langs het standbeeld van oorlogspremier Gerbrandy en langs De Waag die de Duitsers in brand staken toen ze de aftocht bliezen. Onze stadsgidsen vertellen over het verzet, onderduikers en de Sneker bloednacht.</p>
<p>De wandeling duurt ca 1,5 uur en kost €5,50 per persoon.</p>
DESCRIPTION:<a href='/agenda/2026/4/22/stadswandeling-sporen-van-oorlog-en-verzet-129310'>/agenda/2026/4/22/stadswandeling-sporen-van-oorlog-en-verzet-129310</a> || <p>De route voert langs plekken van herinnering, zoals de ‘stroffelstiennen’ en het Joods Monument, langs het standbeeld van oorlogspremier Gerbrandy en langs De Waag die de Duitsers in brand staken toen ze de aftocht bliezen. Onze stadsgidsen vertellen over het verzet, onderduikers en de Sneker bloednacht.</p>
<p>De wandeling duurt ca 1,5 uur en kost €5,50 per persoon.</p>
LAST-MODIFIED:20260420T035206Z
LOCATION: Fries Scheepvaart Museum Sneek | Kleinzand 16 Sneek
SEQUENCE:0
STATUS:CONFIRMED
SUMMARY:Stadswandeling: Sporen van oorlog en verzet
TRANSP:OPAQUE
END:VEVENT
END:VCALENDAR
