BEGIN:VCALENDAR
PRODID:-//PUBBLE//agenda//NL
VERSION:2.0
METHOD:PUBLISH
BEGIN:VEVENT
DTSTART:20260425T110000Z
DTEND:20260425T123000Z
DTSTAMP:20260423T033535Z
UID:c6caa5a9-0fca-4bbb-90b1-27a43e04bed8
CREATED:20260423T033535Z
NAME:Streetparade door Sneek grootsneek.nl
X-WR-CALNAME:Streetparade door Sneek
X-ALT-DESC;FMTTYPE=text/html:<a href='/agenda/2026/4/25/streetparade-door-sneek-128760'>/agenda/2026/4/25/streetparade-door-sneek-128760</a> || <p>Op 25 april 2026 vindt tussen 11.00 en 12.30 uur een feestelijke Streetparade plaats in Sneek. Dit muzikale evenement wordt georganiseerd in samenwerking met Sneek Promotion en Advendo, dat dit jaar haar 80-jarig jubileum viert. Als opwarmer voor de Taptoe Take One vandaag is er eerst een Streetparade door Sneek met 8 spraakmakende korpsen.&nbsp; Vanaf 11:00 uur vertrekt het eerste korps vanaf de Veemarkthal en om de 10 minuten start er een nieuw korps.</p>
<p>Deelnemende korpsen en vertrektijden:</p>
<p>11.00 uur – Jeugdkorps Bicycle Showband Crescendo (Opende)<br />11.05 uur – Melodie &amp; Percussionband Euphonia (Wommels)<br />11.10 uur – Drum- en Showfanfare Jong Advendo (Sneek)<br />11.15 uur – Showband Noordenveld (Roden)<br />11.20 uur – Drum- &amp; Showfanfare DSG (Waadhoeke)<br />11.25 uur – Showband Takostu (Stiens)<br />11.30 uur – Bicycle Showband Crescendo (Opende)<br />11.35 uur – Pasveerkorps (Leeuwarden)<br />11.40 uur – Drum- en Showfanfare Advendo (Sneek)</p>
<p>De deelnemende korpsen verzamelen zich bij de Veemarkthal aan het Veemarktplein.&nbsp; Om 11.00 uur start het eerste korps met de parade, waarna iedere vijf minuten een volgend korps vertrekt.</p>
<p><strong>Route</strong>: <br />Veemarktplein, Stationsstraat, Oud Kerkhof, Marktstraat, Grote Kerkstraat. Oude<br />Koemarkt, Hoogend, Grootzand, Schaapmarktplein, Nauwe Burgstraat, Wijde Burgstraat,<br />Oosterdijk, Jousterkade, Oppenhuizerweg, Koopmansgracht, J.W. Frisostraat, v.v. O.N.S.<br />Zuidersportpark.<br /><br />De streetparade is een gratis toegankelijk onderdeel en is de opwarmer van de Taptoe Take One, die begint om 13.30 uur op het ONS terrein (entree <a href="https://www.sneek.nl/taptoe" target="_blank" rel="noreferrer noopener">Taptoe</a> is op basis van kaartverkoop).</p>
DESCRIPTION:<a href='/agenda/2026/4/25/streetparade-door-sneek-128760'>/agenda/2026/4/25/streetparade-door-sneek-128760</a> || <p>Op 25 april 2026 vindt tussen 11.00 en 12.30 uur een feestelijke Streetparade plaats in Sneek. Dit muzikale evenement wordt georganiseerd in samenwerking met Sneek Promotion en Advendo, dat dit jaar haar 80-jarig jubileum viert. Als opwarmer voor de Taptoe Take One vandaag is er eerst een Streetparade door Sneek met 8 spraakmakende korpsen.&nbsp; Vanaf 11:00 uur vertrekt het eerste korps vanaf de Veemarkthal en om de 10 minuten start er een nieuw korps.</p>
<p>Deelnemende korpsen en vertrektijden:</p>
<p>11.00 uur – Jeugdkorps Bicycle Showband Crescendo (Opende)<br />11.05 uur – Melodie &amp; Percussionband Euphonia (Wommels)<br />11.10 uur – Drum- en Showfanfare Jong Advendo (Sneek)<br />11.15 uur – Showband Noordenveld (Roden)<br />11.20 uur – Drum- &amp; Showfanfare DSG (Waadhoeke)<br />11.25 uur – Showband Takostu (Stiens)<br />11.30 uur – Bicycle Showband Crescendo (Opende)<br />11.35 uur – Pasveerkorps (Leeuwarden)<br />11.40 uur – Drum- en Showfanfare Advendo (Sneek)</p>
<p>De deelnemende korpsen verzamelen zich bij de Veemarkthal aan het Veemarktplein.&nbsp; Om 11.00 uur start het eerste korps met de parade, waarna iedere vijf minuten een volgend korps vertrekt.</p>
<p><strong>Route</strong>: <br />Veemarktplein, Stationsstraat, Oud Kerkhof, Marktstraat, Grote Kerkstraat. Oude<br />Koemarkt, Hoogend, Grootzand, Schaapmarktplein, Nauwe Burgstraat, Wijde Burgstraat,<br />Oosterdijk, Jousterkade, Oppenhuizerweg, Koopmansgracht, J.W. Frisostraat, v.v. O.N.S.<br />Zuidersportpark.<br /><br />De streetparade is een gratis toegankelijk onderdeel en is de opwarmer van de Taptoe Take One, die begint om 13.30 uur op het ONS terrein (entree <a href="https://www.sneek.nl/taptoe" target="_blank" rel="noreferrer noopener">Taptoe</a> is op basis van kaartverkoop).</p>
LAST-MODIFIED:20260423T033535Z
LOCATION: Schaapmarktplein | Schaapmarktplein 1 Sneek
SEQUENCE:0
STATUS:CONFIRMED
SUMMARY:Streetparade door Sneek
TRANSP:OPAQUE
END:VEVENT
END:VCALENDAR
