BEGIN:VCALENDAR
PRODID:-//PUBBLE//agenda//NL
VERSION:2.0
METHOD:PUBLISH
BEGIN:VEVENT
DTSTART:20260422T133000Z
DTEND:20260422T143000Z
DTSTAMP:20260420T034213Z
UID:0d5801d4-5a5c-4488-8b90-708f01f284b5
CREATED:20260420T034213Z
NAME:Rondritten met paard en wagen grootsneek.nl
X-WR-CALNAME:Rondritten met paard en wagen
X-ALT-DESC;FMTTYPE=text/html:<a href='/agenda/2026/4/22/rondritten-met-paard-en-wagen-128593'>/agenda/2026/4/22/rondritten-met-paard-en-wagen-128593</a> || <p>Toeristische Culturele route door Sneek met paard en wagen. Wanneer het koud is hebben we verwarmde dekens en kussens van Nikki Amsterdam voor je beschikbaar. Afhankelijk van de beschikbare paarden rijden we met 1 of 2 Friese paarden. Er wordt een route gereden van 45-60 minuten. We rijden langs historische gebouwen en hier wordt over verteld. Er is een pauzemoment ingepland zodat je een ijsje kunt kopen. </p>
<p>Wil je een thee/koffie/koekjes en Beerenburg bijboeken dan kost dat €12.50 per persoon extra.  </p>
<p>Vanaf midden september rijden we op verzoek op avond met verlichte wagen/paard.</p>
<p>Rijd je liever op een andere datum of met meer mensen (maximaal 8) Neem dan contact met ons op.</p>
<p><strong>Ligging</strong><br />Opstappen vanaf de glascontainers op het Boschplein in Sneek. Hier is voldoende parkeergelegenheid.</p>
<p><strong>Belangrijk om te weten</strong><br />Het kan zijn dat wij niet op tijd zijn omdat er veel verkeer is. Blijf rustig wachten tot we arriveren. De tocht gaat door als er minimaal 2 personen mee gaan. Er kunnen maximaal 4 mee. Met regen, hele harde wind of andere slechte weersomstandigheden kan de rit niet door gaan. Je krijgt dan de kosten van het kaartje teruggestort.</p>
DESCRIPTION:<a href='/agenda/2026/4/22/rondritten-met-paard-en-wagen-128593'>/agenda/2026/4/22/rondritten-met-paard-en-wagen-128593</a> || <p>Toeristische Culturele route door Sneek met paard en wagen. Wanneer het koud is hebben we verwarmde dekens en kussens van Nikki Amsterdam voor je beschikbaar. Afhankelijk van de beschikbare paarden rijden we met 1 of 2 Friese paarden. Er wordt een route gereden van 45-60 minuten. We rijden langs historische gebouwen en hier wordt over verteld. Er is een pauzemoment ingepland zodat je een ijsje kunt kopen. </p>
<p>Wil je een thee/koffie/koekjes en Beerenburg bijboeken dan kost dat €12.50 per persoon extra.  </p>
<p>Vanaf midden september rijden we op verzoek op avond met verlichte wagen/paard.</p>
<p>Rijd je liever op een andere datum of met meer mensen (maximaal 8) Neem dan contact met ons op.</p>
<p><strong>Ligging</strong><br />Opstappen vanaf de glascontainers op het Boschplein in Sneek. Hier is voldoende parkeergelegenheid.</p>
<p><strong>Belangrijk om te weten</strong><br />Het kan zijn dat wij niet op tijd zijn omdat er veel verkeer is. Blijf rustig wachten tot we arriveren. De tocht gaat door als er minimaal 2 personen mee gaan. Er kunnen maximaal 4 mee. Met regen, hele harde wind of andere slechte weersomstandigheden kan de rit niet door gaan. Je krijgt dan de kosten van het kaartje teruggestort.</p>
LAST-MODIFIED:20260420T034213Z
LOCATION: Onbekend | Boschplein 7 Sneek
SEQUENCE:0
STATUS:CONFIRMED
SUMMARY:Rondritten met paard en wagen
TRANSP:OPAQUE
END:VEVENT
END:VCALENDAR
