BEGIN:VCALENDAR
PRODID:-//PUBBLE//agenda//NL
VERSION:2.0
METHOD:PUBLISH
BEGIN:VEVENT
DTSTART:20250912T220000Z
DTEND:20250913T220000Z
DTSTAMP:20260424T230455Z
UID:f6082152-cddf-4fc9-97cb-6c569fc20b56
CREATED:20260424T230455Z
NAME:UITfestival Waterland van Friesland grootsneek.nl
X-WR-CALNAME:UITfestival Waterland van Friesland
X-ALT-DESC;FMTTYPE=text/html:<a href='/agenda/2025/9/13/uitfestival-waterland-van-friesland-114984'>/agenda/2025/9/13/uitfestival-waterland-van-friesland-114984</a> || <p>Van 13 t/m 14 september vieren De Fryske Marren en Súdwest-Fryslân cultuur tijdens het UITfestival Waterland van Friesland. Het culturele seizoen ‘25/’26 wordt feestelijk afgetrapt in diverse dorpen en steden.<br><br><strong>De Fryske Marren = zaterdag 13&nbsp;september</strong><br>In Balk, Joure en Lemmer zijn dan cultuurmakers uit de wijde omgeving in die drie plaatsen te vinden.&nbsp;<br><br><strong>Súdwest-Fryslân = 13 t/m&nbsp;14&nbsp;september</strong><br>In deze periode worden er feestelijke cultuurfestivals en andere activiteiten georganiseerd in&nbsp;Blauwhuis,&nbsp;Bolsward, Goënga, Hindeloopen, IJlst, Oudega, Sneek,&nbsp;Witmarsum/Pingjum, Workum&nbsp;en Woudsend.&nbsp;<br><br>Kijk op&nbsp;<a href="http://uitfestivalwvf.nl/" target="_blank">uitfestivalwvf.nl</a> voor meer informatie en de agenda van Súdwest-Fryslân. Tot op het UITfestival Waterland van Friesland!</p>
DESCRIPTION:<a href='/agenda/2025/9/13/uitfestival-waterland-van-friesland-114984'>/agenda/2025/9/13/uitfestival-waterland-van-friesland-114984</a> || <p>Van 13 t/m 14 september vieren De Fryske Marren en Súdwest-Fryslân cultuur tijdens het UITfestival Waterland van Friesland. Het culturele seizoen ‘25/’26 wordt feestelijk afgetrapt in diverse dorpen en steden.<br><br><strong>De Fryske Marren = zaterdag 13&nbsp;september</strong><br>In Balk, Joure en Lemmer zijn dan cultuurmakers uit de wijde omgeving in die drie plaatsen te vinden.&nbsp;<br><br><strong>Súdwest-Fryslân = 13 t/m&nbsp;14&nbsp;september</strong><br>In deze periode worden er feestelijke cultuurfestivals en andere activiteiten georganiseerd in&nbsp;Blauwhuis,&nbsp;Bolsward, Goënga, Hindeloopen, IJlst, Oudega, Sneek,&nbsp;Witmarsum/Pingjum, Workum&nbsp;en Woudsend.&nbsp;<br><br>Kijk op&nbsp;<a href="http://uitfestivalwvf.nl/" target="_blank">uitfestivalwvf.nl</a> voor meer informatie en de agenda van Súdwest-Fryslân. Tot op het UITfestival Waterland van Friesland!</p>
LAST-MODIFIED:20260424T230455Z
LOCATION: Stads- en dorpskernen in Zuidwest Friesland |   Sneek
SEQUENCE:0
STATUS:CONFIRMED
SUMMARY:UITfestival Waterland van Friesland
TRANSP:OPAQUE
END:VEVENT
END:VCALENDAR
