BEGIN:VCALENDAR
PRODID:-//PUBBLE//agenda//NL
VERSION:2.0
METHOD:PUBLISH
BEGIN:VEVENT
DTSTART:20250317T070000Z
DTEND:20250317T140000Z
DTSTAMP:20260425T160701Z
UID:86a5744b-418c-40a6-a59c-efd21f3ae4b5
CREATED:20260425T160701Z
NAME:Kijkje achter de schermen bij Empatec grootsneek.nl
X-WR-CALNAME:Kijkje achter de schermen bij Empatec
X-ALT-DESC;FMTTYPE=text/html:<a href='/agenda/2025/3/17/kijkje-achter-de-schermen-bij-empatec-104866'>/agenda/2025/3/17/kijkje-achter-de-schermen-bij-empatec-104866</a> || <p>Bij Empatec geloven we dat iedereen een steentje kan bijdragen en dat werken gelukkig maakt. Op je werk ontmoet je mensen, voel je je gewaardeerd en kun je jezelf ontwikkelen. Als sociaal werkleerbedrijf bieden we een werkplek waar onze vakkrachten dagelijks gemotiveerd werken aan diensten zoals hout- en metaalbewerking, montage, verpakken, groenvoorziening en schilderwerk. Tegelijkertijd helpen we mensen met een grotere uitdaging op de arbeidsmarkt om stappen te zetten richting regulier werk en dragen we bij aan hun werkgeluk. Tijdens rondleidingen, verzorgd door onze Ambassadeurs – medewerkers met een afstand tot de arbeidsmarkt – krijg je een uniek kijkje achter de schermen. Je ziet onze metaalwerkplaats, verpakkingshallen en andere afdelingen, en hoort inspirerende verhalen over persoonlijke groei en sociale inclusie. Zo maken we niet alleen impact met materialen en opdrachten, maar vooral door mensen kansen te bieden en werkgeluk centraal te stellen.&nbsp;</p>
<p><em>Pijlers circulaire economie: Biodiversiteit – Energie - <strong>Gezondheid en welzijn</strong> - <strong>Maatschappij en cultuur</strong> –<strong>Materialen</strong> - Waarde toevoegen – Water&nbsp;</em></p>
<ul>
<li><strong>Tijdsduur</strong><strong>:</strong> circa 1,5 uur&nbsp;</li>
<li><strong>Periode</strong><strong>:</strong> in overleg mogelijk tussen 9.00 en 16.00 uur</li>
<li><strong>Kosten</strong><strong>:</strong> kosteloos</li>
<li><strong>Groepsgrootte:</strong> 2 tot 20 personen</li>
<li><strong>Sprekers</strong><strong>:</strong> nader te bepalen</li>
</ul>
<p>Meer weten over de circulaire expedities? Bekijk ze&nbsp;<a href="https://www.meetinfriesland.nl/nl/plannen/voorbeeldprogrammas/circulaire-expedities" target="_blank">hier</a>.</p>
DESCRIPTION:<a href='/agenda/2025/3/17/kijkje-achter-de-schermen-bij-empatec-104866'>/agenda/2025/3/17/kijkje-achter-de-schermen-bij-empatec-104866</a> || <p>Bij Empatec geloven we dat iedereen een steentje kan bijdragen en dat werken gelukkig maakt. Op je werk ontmoet je mensen, voel je je gewaardeerd en kun je jezelf ontwikkelen. Als sociaal werkleerbedrijf bieden we een werkplek waar onze vakkrachten dagelijks gemotiveerd werken aan diensten zoals hout- en metaalbewerking, montage, verpakken, groenvoorziening en schilderwerk. Tegelijkertijd helpen we mensen met een grotere uitdaging op de arbeidsmarkt om stappen te zetten richting regulier werk en dragen we bij aan hun werkgeluk. Tijdens rondleidingen, verzorgd door onze Ambassadeurs – medewerkers met een afstand tot de arbeidsmarkt – krijg je een uniek kijkje achter de schermen. Je ziet onze metaalwerkplaats, verpakkingshallen en andere afdelingen, en hoort inspirerende verhalen over persoonlijke groei en sociale inclusie. Zo maken we niet alleen impact met materialen en opdrachten, maar vooral door mensen kansen te bieden en werkgeluk centraal te stellen.&nbsp;</p>
<p><em>Pijlers circulaire economie: Biodiversiteit – Energie - <strong>Gezondheid en welzijn</strong> - <strong>Maatschappij en cultuur</strong> –<strong>Materialen</strong> - Waarde toevoegen – Water&nbsp;</em></p>
<ul>
<li><strong>Tijdsduur</strong><strong>:</strong> circa 1,5 uur&nbsp;</li>
<li><strong>Periode</strong><strong>:</strong> in overleg mogelijk tussen 9.00 en 16.00 uur</li>
<li><strong>Kosten</strong><strong>:</strong> kosteloos</li>
<li><strong>Groepsgrootte:</strong> 2 tot 20 personen</li>
<li><strong>Sprekers</strong><strong>:</strong> nader te bepalen</li>
</ul>
<p>Meer weten over de circulaire expedities? Bekijk ze&nbsp;<a href="https://www.meetinfriesland.nl/nl/plannen/voorbeeldprogrammas/circulaire-expedities" target="_blank">hier</a>.</p>
LAST-MODIFIED:20260425T160701Z
LOCATION: Empatec | Tingietersstraat 1 Sneek
SEQUENCE:0
STATUS:CONFIRMED
SUMMARY:Kijkje achter de schermen bij Empatec
TRANSP:OPAQUE
END:VEVENT
END:VCALENDAR
